BEGIN:VCALENDAR
VERSION:2.0
PRODID:-//Hospice of Orange &amp; Sullivan - ECPv5.14.1//NONSGML v1.0//EN
CALSCALE:GREGORIAN
METHOD:PUBLISH
X-WR-CALNAME:Hospice of Orange &amp; Sullivan
X-ORIGINAL-URL:https://hospice.sandbox.nikijones.com
X-WR-CALDESC:Events for Hospice of Orange &amp; Sullivan
BEGIN:VTIMEZONE
TZID:UTC
BEGIN:STANDARD
TZOFFSETFROM:+0000
TZOFFSETTO:+0000
TZNAME:UTC
DTSTART:20160101T000000
END:STANDARD
END:VTIMEZONE
BEGIN:VEVENT
DTSTART;TZID=UTC:20161027T190000
DTEND;TZID=UTC:20161027T220000
DTSTAMP:20260422T102054
CREATED:20160909T220144Z
LAST-MODIFIED:20161026T224741Z
UID:6809-1477594800-1477605600@hospice.sandbox.nikijones.com
SUMMARY:SOLD OUT Witch Hat Party.  No Walk-ins Please.
DESCRIPTION:The Auxiliary of Hospice of Orange and Sullivan Counties\, AKA Friends of Hospice is excited be participating in the 3rd Annual Witch Hat Party which will be held on Thursday\, October 27\, 2016 from 7:00 pm – 10:00 pm. \nThe party will be held at Mountainville Manor\, 199 Taylor Rd. Mountainville\, NY. The theme of this event is Witch Hats so please wear your appropriate Witch’s Bonnet! \nGrab your glue guns\, visit your local craft store and let your\ncreativity flow or dust off your hats from last year.  \nCocktail Style Cuisine * Desserts *Cash Bar\nRenowned Intuitive Medium Deborah Hanlon\nTarot readers Bernadette Montana & Kayla Corona\nRaffles/Witch Hat Social (Auction)\nMusic *Prizes for the Best Hat\n$35.00 per Witch or Warlock     \n \nClick below for Invitation \nWitch Hat Party Invite\n  \n\n\n                                                                     \n  \n  \n 
URL:https://hospice.sandbox.nikijones.com/event/witch-hat-party/
LOCATION:Mountainville Manor\, 199 Taylor Road\, Mountainville\, NY\, 10953\, United States
END:VEVENT
END:VCALENDAR