BEGIN:VCALENDAR
VERSION:2.0
PRODID:-//Hospice of Orange &amp; Sullivan - ECPv5.14.1//NONSGML v1.0//EN
CALSCALE:GREGORIAN
METHOD:PUBLISH
X-WR-CALNAME:Hospice of Orange &amp; Sullivan
X-ORIGINAL-URL:https://hospice.sandbox.nikijones.com
X-WR-CALDESC:Events for Hospice of Orange &amp; Sullivan
BEGIN:VTIMEZONE
TZID:UTC
BEGIN:STANDARD
TZOFFSETFROM:+0000
TZOFFSETTO:+0000
TZNAME:UTC
DTSTART:20180101T000000
END:STANDARD
END:VTIMEZONE
BEGIN:VEVENT
DTSTART;TZID=UTC:20180926T100000
DTEND;TZID=UTC:20181031T160000
DTSTAMP:20260421T140749
CREATED:20180530T221903Z
LAST-MODIFIED:20180530T222147Z
UID:9861-1537956000-1541001600@hospice.sandbox.nikijones.com
SUMMARY:Volunteer Training Fall 2018
DESCRIPTION:Fall Volunteer Training 2018 \nThe primary role of our volunteer is to provide companionship and or caregiver relief to persons on Hospice and their families. Volunteers share skills and interests in a manner that provide comfort and enrich the quality of life for those served. Volunteers provide companionship through   presence\, listening to music\, reading and reminiscing etc. \nWe offer various areas of volunteering within our organization\, one of which is office support in both Newburgh and Middletown. Once the prospective volunteer has graduated the training\, they can provide support in the geographic location in which they reside. \nAll interested community members are welcome. Hospice also welcomes prospective volunteers who are Veterans\, bilingual and/or Snow Birds. \nTraining Site:  Hospice of Orange and Sullivan Counties\, Inc.\, 90 Crystal Run Road  Middletown NY 10940 \nWHEN:  Wednesdays 10:00 am -5:00 pm \n9/12\, No class on 9/19 \, 9/26\, 10/3\, 10/10\, 10/17\, 10/24\, 10/31 \nIf you are interested in learning more about the training  \nfeel free to contact The Director of Volunteer Services\, Debra Epstein at 845-565-4849 or debrae@hospiceoforange.com
URL:https://hospice.sandbox.nikijones.com/event/volunteer-training-fall-2018-2/
END:VEVENT
END:VCALENDAR