BEGIN:VCALENDAR
VERSION:2.0
PRODID:-//Hospice of Orange &amp; Sullivan - ECPv5.14.1//NONSGML v1.0//EN
CALSCALE:GREGORIAN
METHOD:PUBLISH
X-WR-CALNAME:Hospice of Orange &amp; Sullivan
X-ORIGINAL-URL:https://hospice.sandbox.nikijones.com
X-WR-CALDESC:Events for Hospice of Orange &amp; Sullivan
BEGIN:VTIMEZONE
TZID:UTC
BEGIN:STANDARD
TZOFFSETFROM:+0000
TZOFFSETTO:+0000
TZNAME:UTC
DTSTART:20170101T000000
END:STANDARD
END:VTIMEZONE
BEGIN:VEVENT
DTSTART;TZID=UTC:20171129T190000
DTEND;TZID=UTC:20171129T210000
DTSTAMP:20260422T005455
CREATED:20171104T001918Z
LAST-MODIFIED:20171104T001918Z
UID:8597-1511982000-1511989200@hospice.sandbox.nikijones.com
SUMMARY:The Being Mortal Project
DESCRIPTION:The Being Mortal Community Project\nHosted by Dr. Danielle Belser\, Associate Medical Director.\nShe will be joined by members of a Hospice Care Team for\na Q & A session after the documentary. This is free and open to the public and reservations are requested  due to limited space.   \nPlease call Janice Valentino 561-6143 x 324\nor email janicev@hospiceoforange.com
URL:https://hospice.sandbox.nikijones.com/event/the-being-mortal-project/
LOCATION:Home2Suites by Hilton\, 600 Route 211 East\, Middletown\, NY\, 10940\, United States
ORGANIZER;CN="Hospice%20of%20Orange%20%26%20Sullivan%20Counties%2C%20Inc.":MAILTO:m.sutter@hospiceoforange.com
END:VEVENT
END:VCALENDAR