BEGIN:VCALENDAR
VERSION:2.0
PRODID:-//Hospice of Orange &amp; Sullivan - ECPv5.14.1//NONSGML v1.0//EN
CALSCALE:GREGORIAN
METHOD:PUBLISH
X-WR-CALNAME:Hospice of Orange &amp; Sullivan
X-ORIGINAL-URL:https://hospice.sandbox.nikijones.com
X-WR-CALDESC:Events for Hospice of Orange &amp; Sullivan
BEGIN:VTIMEZONE
TZID:UTC
BEGIN:STANDARD
TZOFFSETFROM:+0000
TZOFFSETTO:+0000
TZNAME:UTC
DTSTART:20180101T000000
END:STANDARD
END:VTIMEZONE
BEGIN:VEVENT
DTSTART;TZID=UTC:20180517T133000
DTEND;TZID=UTC:20180517T153000
DTSTAMP:20260421T192317
CREATED:20180515T220706Z
LAST-MODIFIED:20180515T220739Z
UID:9783-1526563800-1526571000@hospice.sandbox.nikijones.com
SUMMARY:The Being Mortal Project/Warwick
DESCRIPTION:This documentary\, Being Mortal tells the story of Dr. Gawande who is learning to think about death and dying in the context of being a healer. By sharing stories from both physicians and the people and families he encounters\, including his own\, the documentary shares new light on how our system so often focused on a cure\, neglects the important conversations that need to happen so that a person’s true                  priorities can be known and honored. \nThursday\, May 17\, 2018 1:30 pm– 3:30 pm\nAmerican Legion Hall\, 71 Forester Avenue\, Warwick\, NY  10990\nHosted by Dr. Danielle Belser\, Associate Medical Director and members of a Hospice Care Team\nThis is free and open to the public but reservations are requested due to limited space.\nJanice Valentino 561-6143 x 324  email janicev@hospiceoforange.com \n 
URL:https://hospice.sandbox.nikijones.com/event/the-being-mortal-project-warwick/
END:VEVENT
END:VCALENDAR