BEGIN:VCALENDAR
VERSION:2.0
PRODID:-//Hospice of Orange &amp; Sullivan - ECPv5.14.1//NONSGML v1.0//EN
CALSCALE:GREGORIAN
METHOD:PUBLISH
X-WR-CALNAME:Hospice of Orange &amp; Sullivan
X-ORIGINAL-URL:https://hospice.sandbox.nikijones.com
X-WR-CALDESC:Events for Hospice of Orange &amp; Sullivan
BEGIN:VTIMEZONE
TZID:UTC
BEGIN:STANDARD
TZOFFSETFROM:+0000
TZOFFSETTO:+0000
TZNAME:UTC
DTSTART:20170101T000000
END:STANDARD
END:VTIMEZONE
BEGIN:VEVENT
DTSTART;TZID=UTC:20171105T140000
DTEND;TZID=UTC:20171105T150000
DTSTAMP:20260422T024038
CREATED:20171010T001434Z
LAST-MODIFIED:20171010T001513Z
UID:8489-1509890400-1509894000@hospice.sandbox.nikijones.com
SUMMARY:Sullivan County Memorial Service
DESCRIPTION:The Sullivan County Memorial Service at which we will remember our patients who died during the six months from March through August.  The service will be held at the United Methodist Church in White Sulphur Springs on Sunday\, November 5\, 2017 @ 2:00 pm.
URL:https://hospice.sandbox.nikijones.com/event/sullivan-county-memorial-service-2/
END:VEVENT
END:VCALENDAR