BEGIN:VCALENDAR
VERSION:2.0
PRODID:-//Hospice of Orange &amp; Sullivan - ECPv5.14.1//NONSGML v1.0//EN
CALSCALE:GREGORIAN
METHOD:PUBLISH
X-WR-CALNAME:Hospice of Orange &amp; Sullivan
X-ORIGINAL-URL:https://hospice.sandbox.nikijones.com
X-WR-CALDESC:Events for Hospice of Orange &amp; Sullivan
BEGIN:VTIMEZONE
TZID:UTC
BEGIN:STANDARD
TZOFFSETFROM:+0000
TZOFFSETTO:+0000
TZNAME:UTC
DTSTART:20180101T000000
END:STANDARD
END:VTIMEZONE
BEGIN:VEVENT
DTSTART;TZID=UTC:20180711T173000
DTEND;TZID=UTC:20180711T190000
DTSTAMP:20260421T160938
CREATED:20180426T200729Z
LAST-MODIFIED:20180426T200729Z
UID:9702-1531330200-1531335600@hospice.sandbox.nikijones.com
SUMMARY:Sullivan County Evening Support Group-SUSPENDED AT THIS TIME
DESCRIPTION:This Support Group is suspended at this time.\n2nd and 4th Wednesday of the month\n5:30 pm -7:00 pm\nAdult Day Care Center\, Catskill Regional Medical Center\, Harris\, NY \nPlease Consider our day support group at the Government Center \n2nd and 4th Wednesday\n1:30 pm – 3:00 pm\nSC Government Center\, Monticello\n2nd Floor\, Legislative Hearing Room\nFacilitator: Sharon Pluskalowski\, LCSW-R \, Extension x 232
URL:https://hospice.sandbox.nikijones.com/event/sullivan-county-evening-support-group-suspended-at-this-time-6/
END:VEVENT
END:VCALENDAR