BEGIN:VCALENDAR
VERSION:2.0
PRODID:-//Hospice of Orange &amp; Sullivan - ECPv5.14.1//NONSGML v1.0//EN
CALSCALE:GREGORIAN
METHOD:PUBLISH
X-WR-CALNAME:Hospice of Orange &amp; Sullivan
X-ORIGINAL-URL:https://hospice.sandbox.nikijones.com
X-WR-CALDESC:Events for Hospice of Orange &amp; Sullivan
BEGIN:VTIMEZONE
TZID:UTC
BEGIN:STANDARD
TZOFFSETFROM:+0000
TZOFFSETTO:+0000
TZNAME:UTC
DTSTART:20180101T000000
END:STANDARD
END:VTIMEZONE
BEGIN:VEVENT
DTSTART;TZID=UTC:20180425T133000
DTEND;TZID=UTC:20180425T150000
DTSTAMP:20260421T230003
CREATED:20180411T000812Z
LAST-MODIFIED:20190606T195004Z
UID:9520-1524663000-1524668400@hospice.sandbox.nikijones.com
SUMMARY:Sullivan County Bereavement Support Group
DESCRIPTION:2nd and 4th Thursday of the month\n1:30 pm – 3:00 pm\nSullivan County Government Center\nLegislative Hearing Room 2nd Floor\n\nFacilitator: Martha Johnston LCSW Extension X 201
URL:https://hospice.sandbox.nikijones.com/event/sullivan-county-bereavement-support-group-3/
END:VEVENT
END:VCALENDAR