BEGIN:VCALENDAR
VERSION:2.0
PRODID:-//Hospice of Orange &amp; Sullivan - ECPv5.14.1//NONSGML v1.0//EN
CALSCALE:GREGORIAN
METHOD:PUBLISH
X-WR-CALNAME:Hospice of Orange &amp; Sullivan
X-ORIGINAL-URL:https://hospice.sandbox.nikijones.com
X-WR-CALDESC:Events for Hospice of Orange &amp; Sullivan
BEGIN:VTIMEZONE
TZID:UTC
BEGIN:STANDARD
TZOFFSETFROM:+0000
TZOFFSETTO:+0000
TZNAME:UTC
DTSTART:20190101T000000
END:STANDARD
END:VTIMEZONE
BEGIN:VEVENT
DTSTART;TZID=UTC:20190330T173000
DTEND;TZID=UTC:20190330T230000
DTSTAMP:20260421T060250
CREATED:20190126T014358Z
LAST-MODIFIED:20190731T213930Z
UID:10423-1553967000-1553986800@hospice.sandbox.nikijones.com
SUMMARY:Spring Fling Gala 2019
DESCRIPTION:Hospice of Orange & Sullivan Counties\, Inc. will hold its Spring Fling Gala on Saturday\, March 30\, 2019 at Anthony’s Pier 9 in New Windsor\, NY.   Hospice is grateful for the support of our communities during the 30 plus years\, and while we have accomplished so much… we still have much to do and more lives to touch! For his many years of dedication\, commitment and service to Hospice and our community\, we are proud to be honoring Mr. Alan Seidman. \nFor more information please contact Maggie Sutter at (845) 561-6143 ext. 366 for sponsorship opportunities\, 50/50 raffle tickets\, guest registration or any additional information.
URL:https://hospice.sandbox.nikijones.com/event/spring-fling-gala-2019/
LOCATION:Anthony’s Pier 9\, 2975 Route 9W\, New Windsor\, NY\, 12553\, United States
END:VEVENT
END:VCALENDAR