BEGIN:VCALENDAR
VERSION:2.0
PRODID:-//Hospice of Orange &amp; Sullivan - ECPv5.14.1//NONSGML v1.0//EN
CALSCALE:GREGORIAN
METHOD:PUBLISH
X-WR-CALNAME:Hospice of Orange &amp; Sullivan
X-ORIGINAL-URL:https://hospice.sandbox.nikijones.com
X-WR-CALDESC:Events for Hospice of Orange &amp; Sullivan
BEGIN:VTIMEZONE
TZID:America/New_York
BEGIN:DAYLIGHT
TZOFFSETFROM:-0500
TZOFFSETTO:-0400
TZNAME:EDT
DTSTART:20220313T070000
END:DAYLIGHT
BEGIN:STANDARD
TZOFFSETFROM:-0400
TZOFFSETTO:-0500
TZNAME:EST
DTSTART:20221106T060000
END:STANDARD
END:VTIMEZONE
BEGIN:VEVENT
DTSTART;VALUE=DATE:20220423
DTEND;VALUE=DATE:20220424
DTSTAMP:20260420T132104
CREATED:20220211T132055Z
LAST-MODIFIED:20220302T170604Z
UID:15492-1650672000-1650758399@hospice.sandbox.nikijones.com
SUMMARY:Spring Break Gala
DESCRIPTION:  \nHospice of Orange & Sullivan Counties\, Inc. is thrilled to invite you to our 2022 Spring Break Gala. This highly anticipated night will include cocktails and hors d’oeuvres followed by the finest dining\, dancing\, premium auction prizes and 50/50 raffle drawing. \nSaturday\, April 23\, 2022 at  West Hills Country Club\, Middletown\, NY. \n*We will be following all current mandated protocols at the time of the event* \nClick here to reserve your ticket today. \nClick here to view sponsorship opportunities.\n\nProudly Honoring:\n \nMusic By: The Motones\n  \nAll proceeds from the event will benefit Hospice’s Homecare Program and the Kaplan Family Hospice Residence.\nFor more information please contact Maggie Sutter\, Director of Development & Special Events\, at m.sutter@hospiceoforange.com or (845) 561-6111
URL:https://hospice.sandbox.nikijones.com/event/spring-break-gala/
LOCATION:West Hills Country Club\, 121 Golf Links Road\, Middletown\, NY\, 10940\, United States
ATTACH;FMTTYPE=image/png:https://hospice.sandbox.nikijones.com/wp-content/uploads/2022/02/Gala-2022-Save-The-Date-new.png
END:VEVENT
END:VCALENDAR