BEGIN:VCALENDAR
VERSION:2.0
PRODID:-//Hospice of Orange &amp; Sullivan - ECPv5.14.1//NONSGML v1.0//EN
CALSCALE:GREGORIAN
METHOD:PUBLISH
X-WR-CALNAME:Hospice of Orange &amp; Sullivan
X-ORIGINAL-URL:https://hospice.sandbox.nikijones.com
X-WR-CALDESC:Events for Hospice of Orange &amp; Sullivan
BEGIN:VTIMEZONE
TZID:UTC
BEGIN:STANDARD
TZOFFSETFROM:+0000
TZOFFSETTO:+0000
TZNAME:UTC
DTSTART:20200101T000000
END:STANDARD
END:VTIMEZONE
BEGIN:VEVENT
DTSTART;TZID=UTC:20200321T180000
DTEND;TZID=UTC:20200321T230000
DTSTAMP:20260420T145547
CREATED:20200316T200010Z
LAST-MODIFIED:20200316T200137Z
UID:13066-1584813600-1584831600@hospice.sandbox.nikijones.com
SUMMARY:Spring Break Gala March 21 is Now July 9\, 2020.
DESCRIPTION:Out of an abundance of caution in response to Coronavirus concerns\, and following consultation with many of our community partners\, including Orange County Government\, the Department of Health\, the staff at Anthony’s Pier 9\, and our own Board of Directors\, Hospice of Orange and Sullivan Counties has made the decision to postpone the March 21\, 2020 Spring Break Gala to\nJuly 9\, 2020. We thank Anthony’s Pier 9\, our Co-chairs and committee\, and all involved for the opportunity to reschedule this event so quickly.  \nPlease contact Maggie Sutter\, Director of Development & Special Events\, at 845-561-6143 x 366 or m.sutter@hospiceoforange.com with any questions or concerns you may have.
URL:https://hospice.sandbox.nikijones.com/event/spring-break-gala-march-21-is-now-july-9-2020/
END:VEVENT
END:VCALENDAR