BEGIN:VCALENDAR
VERSION:2.0
PRODID:-//Hospice of Orange &amp; Sullivan - ECPv5.14.1//NONSGML v1.0//EN
CALSCALE:GREGORIAN
METHOD:PUBLISH
X-WR-CALNAME:Hospice of Orange &amp; Sullivan
X-ORIGINAL-URL:https://hospice.sandbox.nikijones.com
X-WR-CALDESC:Events for Hospice of Orange &amp; Sullivan
BEGIN:VTIMEZONE
TZID:UTC
BEGIN:STANDARD
TZOFFSETFROM:+0000
TZOFFSETTO:+0000
TZNAME:UTC
DTSTART:20200101T000000
END:STANDARD
END:VTIMEZONE
BEGIN:VEVENT
DTSTART;TZID=UTC:20201105T100000
DTEND;TZID=UTC:20201105T120000
DTSTAMP:20260420T145436
CREATED:20200929T221645Z
LAST-MODIFIED:20200929T222256Z
UID:13690-1604570400-1604577600@hospice.sandbox.nikijones.com
SUMMARY:Salute to Our Veterans 2020
DESCRIPTION:Veteran Breakfast Re-Invented! \nA presentation of our We Honor Veterans Program\, family testimonials and special guest speaker Author and Screen Writer of American Sniper\, Jim DeFelice. \nThis Live/Virtual Event will take place at The Newburgh Armory\n10:00 am to 12:00 pm \nThe presentation will be streamed on Facebook to reach as many Veterans in Orange and Sullivan Counties.\n \nAll guests must be registered and appear on guest list due to limited attendance allowed. Social distancing and masks required. \nIf you are a Veteran and would like to attend please contact Janice Valentino 845-561-6143 x 324 or email janicev@hospiceoforange.com
URL:https://hospice.sandbox.nikijones.com/event/salute-to-our-veterans-2020/
LOCATION:Newburgh Armory Unity Center\, 321 S. William St\,\, Newburgh\, NY\, 12550\, United States
ORGANIZER;CN="Hospice%20of%20Orange%20%26%20Sullivan%20Counties%2C%20Inc.":MAILTO:m.sutter@hospiceoforange.com
END:VEVENT
END:VCALENDAR