BEGIN:VCALENDAR
VERSION:2.0
PRODID:-//Hospice of Orange &amp; Sullivan - ECPv5.14.1//NONSGML v1.0//EN
CALSCALE:GREGORIAN
METHOD:PUBLISH
X-WR-CALNAME:Hospice of Orange &amp; Sullivan
X-ORIGINAL-URL:https://hospice.sandbox.nikijones.com
X-WR-CALDESC:Events for Hospice of Orange &amp; Sullivan
BEGIN:VTIMEZONE
TZID:UTC
BEGIN:STANDARD
TZOFFSETFROM:+0000
TZOFFSETTO:+0000
TZNAME:UTC
DTSTART:20170101T000000
END:STANDARD
END:VTIMEZONE
BEGIN:VEVENT
DTSTART;TZID=UTC:20170507T140000
DTEND;TZID=UTC:20170507T150000
DTSTAMP:20260422T042915
CREATED:20170213T201940Z
LAST-MODIFIED:20170213T201940Z
UID:7280-1494165600-1494169200@hospice.sandbox.nikijones.com
SUMMARY:Orange County Memorial Service
DESCRIPTION:
URL:https://hospice.sandbox.nikijones.com/event/orange-county-memorial-service/
LOCATION:St. John’s Episcopal Church\, 66 Clinton Street\, Cornwall\, NY\, 12518\, United States
END:VEVENT
END:VCALENDAR