BEGIN:VCALENDAR
VERSION:2.0
PRODID:-//Hospice of Orange &amp; Sullivan - ECPv5.14.1//NONSGML v1.0//EN
CALSCALE:GREGORIAN
METHOD:PUBLISH
X-WR-CALNAME:Hospice of Orange &amp; Sullivan
X-ORIGINAL-URL:https://hospice.sandbox.nikijones.com
X-WR-CALDESC:Events for Hospice of Orange &amp; Sullivan
BEGIN:VTIMEZONE
TZID:UTC
BEGIN:STANDARD
TZOFFSETFROM:+0000
TZOFFSETTO:+0000
TZNAME:UTC
DTSTART:20160101T000000
END:STANDARD
END:VTIMEZONE
BEGIN:VEVENT
DTSTART;TZID=UTC:20160512T063000
DTEND;TZID=UTC:20160512T203000
DTSTAMP:20260423T023121
CREATED:20160427T220023Z
LAST-MODIFIED:20160427T220023Z
UID:6131-1463034600-1463085000@hospice.sandbox.nikijones.com
SUMMARY:Newburgh Adult Bereavement Group
DESCRIPTION:Facilitator: Lisa Filocco\, LCSW
URL:https://hospice.sandbox.nikijones.com/event/newburgh-adult-bereavement-group-8/
END:VEVENT
END:VCALENDAR