BEGIN:VCALENDAR
VERSION:2.0
PRODID:-//Hospice of Orange &amp; Sullivan - ECPv5.14.1//NONSGML v1.0//EN
CALSCALE:GREGORIAN
METHOD:PUBLISH
X-WR-CALNAME:Hospice of Orange &amp; Sullivan
X-ORIGINAL-URL:https://hospice.sandbox.nikijones.com
X-WR-CALDESC:Events for Hospice of Orange &amp; Sullivan
BEGIN:VTIMEZONE
TZID:UTC
BEGIN:STANDARD
TZOFFSETFROM:+0000
TZOFFSETTO:+0000
TZNAME:UTC
DTSTART:20160101T000000
END:STANDARD
END:VTIMEZONE
BEGIN:VEVENT
DTSTART;TZID=UTC:20161208T140000
DTEND;TZID=UTC:20161208T153000
DTSTAMP:20260422T090107
CREATED:20160428T194408Z
LAST-MODIFIED:20180301T214907Z
UID:6279-1481205600-1481211000@hospice.sandbox.nikijones.com
SUMMARY:Newburgh Adult Bereavement Group
DESCRIPTION:Facilitator: Sharon Pluskalowski  LCSW \, ext 232
URL:https://hospice.sandbox.nikijones.com/event/newburgh-adult-bereavement-group-27/
LOCATION:Unnamed Venue\, 800 Stony Brook Court\, Newburgh\, NY\, 12550\, United States
END:VEVENT
END:VCALENDAR