BEGIN:VCALENDAR
VERSION:2.0
PRODID:-//Hospice of Orange &amp; Sullivan - ECPv5.14.1//NONSGML v1.0//EN
CALSCALE:GREGORIAN
METHOD:PUBLISH
X-WR-CALNAME:Hospice of Orange &amp; Sullivan
X-ORIGINAL-URL:https://hospice.sandbox.nikijones.com
X-WR-CALDESC:Events for Hospice of Orange &amp; Sullivan
BEGIN:VTIMEZONE
TZID:UTC
BEGIN:STANDARD
TZOFFSETFROM:+0000
TZOFFSETTO:+0000
TZNAME:UTC
DTSTART:20160101T000000
END:STANDARD
END:VTIMEZONE
BEGIN:VEVENT
DTSTART;TZID=UTC:20161207T163000
DTEND;TZID=UTC:20161207T180000
DTSTAMP:20260422T085157
CREATED:20160428T192648Z
LAST-MODIFIED:20170221T011120Z
UID:6251-1481128200-1481133600@hospice.sandbox.nikijones.com
SUMMARY:Middletown Bereavement Support Group
DESCRIPTION:90 Crystal Run Rd. Suite 410\nMiddletown\, NY\nFacilitator: Karen Liebowtiz\,  LMSW
URL:https://hospice.sandbox.nikijones.com/event/middletown-bereavement-support-group-27/
LOCATION:Hospice O&S\, Middletown Office\, 90 Crystal Run Rd\, Suite 410\, Middletown\, NY\, United States
END:VEVENT
END:VCALENDAR