BEGIN:VCALENDAR
VERSION:2.0
PRODID:-//Hospice of Orange &amp; Sullivan - ECPv5.14.1//NONSGML v1.0//EN
CALSCALE:GREGORIAN
METHOD:PUBLISH
X-WR-CALNAME:Hospice of Orange &amp; Sullivan
X-ORIGINAL-URL:https://hospice.sandbox.nikijones.com
X-WR-CALDESC:Events for Hospice of Orange &amp; Sullivan
BEGIN:VTIMEZONE
TZID:UTC
BEGIN:STANDARD
TZOFFSETFROM:+0000
TZOFFSETTO:+0000
TZNAME:UTC
DTSTART:20160101T000000
END:STANDARD
END:VTIMEZONE
BEGIN:VEVENT
DTSTART;TZID=UTC:20160414T130000
DTEND;TZID=UTC:20160414T150000
DTSTAMP:20260423T055826
CREATED:20160427T204937Z
LAST-MODIFIED:20160427T204937Z
UID:6097-1460638800-1460646000@hospice.sandbox.nikijones.com
SUMMARY:Middletown Bereavement Support Group
DESCRIPTION:Facilitator: Ellen Connellis\, LCSW
URL:https://hospice.sandbox.nikijones.com/event/middletown-bereavement-support-group-2/
END:VEVENT
END:VCALENDAR