BEGIN:VCALENDAR
VERSION:2.0
PRODID:-//Hospice of Orange &amp; Sullivan - ECPv5.14.1//NONSGML v1.0//EN
CALSCALE:GREGORIAN
METHOD:PUBLISH
X-WR-CALNAME:Hospice of Orange &amp; Sullivan
X-ORIGINAL-URL:https://hospice.sandbox.nikijones.com
X-WR-CALDESC:Events for Hospice of Orange &amp; Sullivan
BEGIN:VTIMEZONE
TZID:UTC
BEGIN:STANDARD
TZOFFSETFROM:+0000
TZOFFSETTO:+0000
TZNAME:UTC
DTSTART:20160101T000000
END:STANDARD
END:VTIMEZONE
BEGIN:VEVENT
DTSTART;TZID=UTC:20160609T130000
DTEND;TZID=UTC:20160609T150000
DTSTAMP:20260422T224951
CREATED:20160428T173446Z
LAST-MODIFIED:20160428T173446Z
UID:6156-1465477200-1465484400@hospice.sandbox.nikijones.com
SUMMARY:Middletown Bereavement Support Group
DESCRIPTION:Facilitator: Ellen Connellis\, LCSW
URL:https://hospice.sandbox.nikijones.com/event/middletown-bereavement-support-group-10/
LOCATION:Unnamed Venue\, 90 Crystal Run Road\, Middletown\, NY\, 10941\, United States
END:VEVENT
END:VCALENDAR