BEGIN:VCALENDAR
VERSION:2.0
PRODID:-//Hospice of Orange &amp; Sullivan - ECPv5.14.1//NONSGML v1.0//EN
CALSCALE:GREGORIAN
METHOD:PUBLISH
X-WR-CALNAME:Hospice of Orange &amp; Sullivan
X-ORIGINAL-URL:https://hospice.sandbox.nikijones.com
X-WR-CALDESC:Events for Hospice of Orange &amp; Sullivan
BEGIN:VTIMEZONE
TZID:UTC
BEGIN:STANDARD
TZOFFSETFROM:+0000
TZOFFSETTO:+0000
TZNAME:UTC
DTSTART:20160101T000000
END:STANDARD
END:VTIMEZONE
BEGIN:VEVENT
DTSTART;TZID=UTC:20160801T103000
DTEND;TZID=UTC:20160801T200000
DTSTAMP:20260422T173643
CREATED:20160418T214033Z
LAST-MODIFIED:20160428T182018Z
UID:6072-1470047400-1470081600@hospice.sandbox.nikijones.com
SUMMARY:Hospice Tenth Annual Golf Classic
DESCRIPTION:The highly anticipated Hospice Tenth Annual Golf Classic will be held on Monday\, August 1\, 2016 at West Hills Country Club in Middletown\, NY.
URL:https://hospice.sandbox.nikijones.com/event/hospice-tenth-annual-golf-classic/
LOCATION:West Hills Country Club\, 121 Golf Links Road\, Middletown\, NY\, 10940\, United States
END:VEVENT
END:VCALENDAR