BEGIN:VCALENDAR
VERSION:2.0
PRODID:-//Hospice of Orange &amp; Sullivan - ECPv5.14.1//NONSGML v1.0//EN
CALSCALE:GREGORIAN
METHOD:PUBLISH
X-WR-CALNAME:Hospice of Orange &amp; Sullivan
X-ORIGINAL-URL:https://hospice.sandbox.nikijones.com
X-WR-CALDESC:Events for Hospice of Orange &amp; Sullivan
BEGIN:VTIMEZONE
TZID:UTC
BEGIN:STANDARD
TZOFFSETFROM:+0000
TZOFFSETTO:+0000
TZNAME:UTC
DTSTART:20180101T000000
END:STANDARD
END:VTIMEZONE
BEGIN:VEVENT
DTSTART;TZID=UTC:20180917T100000
DTEND;TZID=UTC:20180917T190000
DTSTAMP:20260421T144216
CREATED:20171024T213958Z
LAST-MODIFIED:20190731T211114Z
UID:8569-1537178400-1537210800@hospice.sandbox.nikijones.com
SUMMARY:Hospice of Orange & Sullivan Counties\, Inc. 12th Annual Golf Classic NOW Sept. 17th
DESCRIPTION:Due to weather our Golf Classic has been rescheduled to Monday Sept. 17\, 2018\nFor questions of more information call Maggie Sutter\, 845-561-6143 x 366 or\nemail:  m.sutter@hospiceoforange.com
URL:https://hospice.sandbox.nikijones.com/event/hospice-of-orange-sullivan-counties-inc-12th-annual-golf-classic/
LOCATION:The Powelton Club\, Balmville Road\, Newburgh\, 12550\, United States
ORGANIZER;CN="Hospice%20of%20Orange%20%26%20Sullivan%20Counties%2C%20Inc.":MAILTO:m.sutter@hospiceoforange.com
END:VEVENT
END:VCALENDAR