BEGIN:VCALENDAR
VERSION:2.0
PRODID:-//Hospice of Orange &amp; Sullivan - ECPv5.14.1//NONSGML v1.0//EN
CALSCALE:GREGORIAN
METHOD:PUBLISH
X-WR-CALNAME:Hospice of Orange &amp; Sullivan
X-ORIGINAL-URL:https://hospice.sandbox.nikijones.com
X-WR-CALDESC:Events for Hospice of Orange &amp; Sullivan
BEGIN:VTIMEZONE
TZID:UTC
BEGIN:STANDARD
TZOFFSETFROM:+0000
TZOFFSETTO:+0000
TZNAME:UTC
DTSTART:20210101T000000
END:STANDARD
END:VTIMEZONE
BEGIN:VEVENT
DTSTART;TZID=UTC:20210809T103000
DTEND;TZID=UTC:20210809T190000
DTSTAMP:20260420T133213
CREATED:20210416T192030Z
LAST-MODIFIED:20210623T231036Z
UID:14185-1628505000-1628535600@hospice.sandbox.nikijones.com
SUMMARY:Hospice of Orange & Sullivan 14th Annual Golf Classic 2021
DESCRIPTION:The cost of play is $250 per golfer\, or $1\,000 for a foursome\, \nand golfers will play Scramble Format. \nThere will be prizes for each division: men’s\, ladies\, and mixed. \nRegistration begins at 10:30 am\, lunch is served at 11:00\, \nand Shotgun Start is at 12:30 pm. \nAfter golf\, cocktail style dining and open bar begins at 5:30 pm\, \nand the awards presentations will be at 7:00 pm.  \nOur famous $25\,000 cash raffle will follow with \nten cash prize winners to be drawn\, including a $10\,000 winner!  \nA maximum of 600 tickets will be sold and you need not be present to win. \nCall Maggie Sutter 845.561.6111
URL:https://hospice.sandbox.nikijones.com/event/hospice-of-orange-sullivan-14th-annual-golf-classic-2021/
LOCATION:West Hills Country Club\, 121 Golf Links Road\, Middletown\, NY\, 10940\, United States
ORGANIZER;CN="Hospice%20of%20Orange%20%26%20Sullivan%20Counties%2C%20Inc.":MAILTO:m.sutter@hospiceoforange.com
END:VEVENT
END:VCALENDAR