BEGIN:VCALENDAR
VERSION:2.0
PRODID:-//Hospice of Orange &amp; Sullivan - ECPv5.14.1//NONSGML v1.0//EN
CALSCALE:GREGORIAN
METHOD:PUBLISH
X-WR-CALNAME:Hospice of Orange &amp; Sullivan
X-ORIGINAL-URL:https://hospice.sandbox.nikijones.com
X-WR-CALDESC:Events for Hospice of Orange &amp; Sullivan
BEGIN:VTIMEZONE
TZID:UTC
BEGIN:STANDARD
TZOFFSETFROM:+0000
TZOFFSETTO:+0000
TZNAME:UTC
DTSTART:20190101T000000
END:STANDARD
END:VTIMEZONE
BEGIN:VEVENT
DTSTART;TZID=UTC:20191213T100000
DTEND;TZID=UTC:20191213T113000
DTSTAMP:20260420T162945
CREATED:20170221T030936Z
LAST-MODIFIED:20170221T030936Z
UID:8696-1576231200-1576236600@hospice.sandbox.nikijones.com
SUMMARY:Goshen Bereavement Support Group
DESCRIPTION:214 Harriman Dr.\nGoshen\, NY\nFacilitator: Donna Deming\,  LMSW ext. 253
URL:https://hospice.sandbox.nikijones.com/event/goshen-bereavement-support-group-2019-12-13/
LOCATION:Glen Arden Inc\, 214 Harriman Dr\, Goshen\, NY\, 10924\, United States
END:VEVENT
END:VCALENDAR