BEGIN:VCALENDAR
VERSION:2.0
PRODID:-//Hospice of Orange &amp; Sullivan - ECPv5.14.1//NONSGML v1.0//EN
CALSCALE:GREGORIAN
METHOD:PUBLISH
X-WR-CALNAME:Hospice of Orange &amp; Sullivan
X-ORIGINAL-URL:https://hospice.sandbox.nikijones.com
X-WR-CALDESC:Events for Hospice of Orange &amp; Sullivan
BEGIN:VTIMEZONE
TZID:UTC
BEGIN:STANDARD
TZOFFSETFROM:+0000
TZOFFSETTO:+0000
TZNAME:UTC
DTSTART:20170101T000000
END:STANDARD
END:VTIMEZONE
BEGIN:VEVENT
DTSTART;TZID=UTC:20170812T083000
DTEND;TZID=UTC:20170812T120000
DTSTAMP:20260422T025003
CREATED:20170504T213641Z
LAST-MODIFIED:20170628T194717Z
UID:7684-1502526600-1502539200@hospice.sandbox.nikijones.com
SUMMARY:Forestburgh 5K
DESCRIPTION:The Forestburgh 5K Race/Walk has become a much anticipated event to benefit Hospice of Orange and Sullivan Counties.  This year’s race will take place on Saturday\, August 12\, 2017. The event\, run on a paved and unpaved course\, is certified by the USATF and offers professional timing services.   The first 150 registrants are guaranteed a race t-shirt.   Awards are given in ten brackets from age 10 to 80 & over.  Medals will also be given to the top three overall male and female finishers. \nThis family-friendly event\, at 8:30 AM at Lake Joseph in Forestburgh\, is conducted entirely by community volunteers and has proved to be a bigger success each and every year!  Registration is $18 before the race and $20 on the day of the race. Children under 10 are free. A list of our Sponsors and  Printable Entry Forms and Race Facts are available at:  www.forestburgh5K.com. \n 
URL:https://hospice.sandbox.nikijones.com/event/forestburgh-5k/
LOCATION:Lake Joesph\, Route 42\, Forestburgh\, NY\, United States
END:VEVENT
END:VCALENDAR