BEGIN:VCALENDAR
VERSION:2.0
PRODID:-//Hospice of Orange &amp; Sullivan - ECPv5.14.1//NONSGML v1.0//EN
CALSCALE:GREGORIAN
METHOD:PUBLISH
X-WR-CALNAME:Hospice of Orange &amp; Sullivan
X-ORIGINAL-URL:https://hospice.sandbox.nikijones.com
X-WR-CALDESC:Events for Hospice of Orange &amp; Sullivan
BEGIN:VTIMEZONE
TZID:UTC
BEGIN:STANDARD
TZOFFSETFROM:+0000
TZOFFSETTO:+0000
TZNAME:UTC
DTSTART:20160101T000000
END:STANDARD
END:VTIMEZONE
BEGIN:VEVENT
DTSTART;TZID=UTC:20160511T173000
DTEND;TZID=UTC:20160511T190000
DTSTAMP:20260423T024737
CREATED:20160427T215648Z
LAST-MODIFIED:20160427T215648Z
UID:6126-1462987800-1462993200@hospice.sandbox.nikijones.com
SUMMARY:CRMC Adult Bereavement Group
DESCRIPTION:Facilitator Martha Johnston LCSW 561-6111 ext 201
URL:https://hospice.sandbox.nikijones.com/event/crmc-adult-bereavement-group-3/
LOCATION:Catskill Regional Medical Center\, Harris-Bushville Road\, Harris\, NY\, United States
END:VEVENT
END:VCALENDAR