BEGIN:VCALENDAR
VERSION:2.0
PRODID:-//Hospice of Orange &amp; Sullivan - ECPv5.14.1//NONSGML v1.0//EN
CALSCALE:GREGORIAN
METHOD:PUBLISH
X-WR-CALNAME:Hospice of Orange &amp; Sullivan
X-ORIGINAL-URL:https://hospice.sandbox.nikijones.com
X-WR-CALDESC:Events for Hospice of Orange &amp; Sullivan
BEGIN:VTIMEZONE
TZID:UTC
BEGIN:STANDARD
TZOFFSETFROM:+0000
TZOFFSETTO:+0000
TZNAME:UTC
DTSTART:20190101T000000
END:STANDARD
END:VTIMEZONE
BEGIN:VEVENT
DTSTART;TZID=UTC:20191003T183000
DTEND;TZID=UTC:20191003T200000
DTSTAMP:20260420T211647
CREATED:20190828T002402Z
LAST-MODIFIED:20190828T002402Z
UID:11521-1570127400-1570132800@hospice.sandbox.nikijones.com
SUMMARY:Coping Through The Holidays
DESCRIPTION:EVENING SEMINAR\nThursday\, October 3\, 2019\n6:30pm-8:00pm\nMonroe Free Library\n44 Millpond Parkway Monroe\, NY \nPlease Register By Calling Tiffany Turner\, LMSW\n845-561-6143 x 287 or email: tiftur@hospiceoforange.com \n 
URL:https://hospice.sandbox.nikijones.com/event/coping-through-the-holidays/
END:VEVENT
END:VCALENDAR