BEGIN:VCALENDAR
VERSION:2.0
PRODID:-//Hospice of Orange &amp; Sullivan - ECPv5.14.1//NONSGML v1.0//EN
CALSCALE:GREGORIAN
METHOD:PUBLISH
X-WR-CALNAME:Hospice of Orange &amp; Sullivan
X-ORIGINAL-URL:https://hospice.sandbox.nikijones.com
X-WR-CALDESC:Events for Hospice of Orange &amp; Sullivan
BEGIN:VTIMEZONE
TZID:UTC
BEGIN:STANDARD
TZOFFSETFROM:+0000
TZOFFSETTO:+0000
TZNAME:UTC
DTSTART:20190101T000000
END:STANDARD
END:VTIMEZONE
BEGIN:VEVENT
DTSTART;TZID=UTC:20191009T130000
DTEND;TZID=UTC:20191009T143000
DTSTAMP:20260420T211647
CREATED:20190828T003716Z
LAST-MODIFIED:20190828T003716Z
UID:11523-1570626000-1570631400@hospice.sandbox.nikijones.com
SUMMARY:Coping Through The Holidays
DESCRIPTION:DAY SEMINAR\nWednesday\, Oct. 9\, 2019\n1:00pm-2:30pm Braemar Living at Wallkill\nCinema Room\n21 Riverside Drive Middletown\, NY \nPlease Register By Calling Tiffany Turner\, LMSW\n845-561-6143 x 287 or email: tiftur@hospiceoforange.com
URL:https://hospice.sandbox.nikijones.com/event/coping-through-the-holidays-2/
END:VEVENT
END:VCALENDAR