BEGIN:VCALENDAR
VERSION:2.0
PRODID:-//Hospice of Orange &amp; Sullivan - ECPv5.14.1//NONSGML v1.0//EN
CALSCALE:GREGORIAN
METHOD:PUBLISH
X-WR-CALNAME:Hospice of Orange &amp; Sullivan
X-ORIGINAL-URL:https://hospice.sandbox.nikijones.com
X-WR-CALDESC:Events for Hospice of Orange &amp; Sullivan
BEGIN:VTIMEZONE
TZID:UTC
BEGIN:STANDARD
TZOFFSETFROM:+0000
TZOFFSETTO:+0000
TZNAME:UTC
DTSTART:20190101T000000
END:STANDARD
END:VTIMEZONE
BEGIN:VEVENT
DTSTART;TZID=UTC:20190927T183000
DTEND;TZID=UTC:20190927T200000
DTSTAMP:20260420T211646
CREATED:20190828T002022Z
LAST-MODIFIED:20190828T002132Z
UID:11517-1569609000-1569614400@hospice.sandbox.nikijones.com
SUMMARY:Coping Through The Holiday Seminar
DESCRIPTION:EVENING SEMINAR\nFriday\, Sept 27\, 2019\n6:30pm – 8:00pm\nMount Saint Mary College Dominican Center\nRoom 218 330 Powell Ave. Newburgh\, NY\nAmple parking/handicapped accessible \nPlease Register By Calling Tiffany Turner\, LMSW\n845-561-6143 x 287 or email: tiftur@hospiceoforange.com \n 
URL:https://hospice.sandbox.nikijones.com/event/coping-through-the-holiday-seminar/
END:VEVENT
END:VCALENDAR