BEGIN:VCALENDAR
VERSION:2.0
PRODID:-//Hospice of Orange &amp; Sullivan - ECPv5.14.1//NONSGML v1.0//EN
CALSCALE:GREGORIAN
METHOD:PUBLISH
X-WR-CALNAME:Hospice of Orange &amp; Sullivan
X-ORIGINAL-URL:https://hospice.sandbox.nikijones.com
X-WR-CALDESC:Events for Hospice of Orange &amp; Sullivan
BEGIN:VTIMEZONE
TZID:UTC
BEGIN:STANDARD
TZOFFSETFROM:+0000
TZOFFSETTO:+0000
TZNAME:UTC
DTSTART:20180101T000000
END:STANDARD
END:VTIMEZONE
BEGIN:VEVENT
DTSTART;TZID=UTC:20180605T173000
DTEND;TZID=UTC:20180605T193000
DTSTAMP:20260421T193057
CREATED:20180515T222000Z
LAST-MODIFIED:20190731T205312Z
UID:9786-1528219800-1528227000@hospice.sandbox.nikijones.com
SUMMARY:Consider the Conversation: a documentary
DESCRIPTION:HOSPICE of Orange and Sullivan and St. Luke’s Cornwall Hospital present  \nConsider the Conversation: a documentary on a taboo subject \nTuesday\, June 5\, 2018\n5:30 pm—7:30 pm\nNewburgh Armory Unity Center\n321 S. William St\, Newburgh\, NY\nPlease join us for this free Film Presentation and Community Conversation Presented by: \nDr. Danielle Belser\nAssociate Medical Director\, HOSPICE or Orange and Sullivan Counties\nDr. Kirti Joseph\nSt. Luke’s Cornwall Hospital Palliative Care\nSue Martino\, NP-C\nSt. Luke’s Cornwall Hospital Palliative Care \nTo reserve your seat register on line http://bit.ly/slchconversation \nOR please call Janice Valentino: 845-561-6143 x 324 or email:  janicev@hospiceoforange.com \n 
URL:https://hospice.sandbox.nikijones.com/event/consider-the-conversation-a-documentary/
LOCATION:Newburgh Armory Unity Center\, 321 S. William St\,\, Newburgh\, NY\, 12550\, United States
END:VEVENT
END:VCALENDAR