BEGIN:VCALENDAR
VERSION:2.0
PRODID:-//Hospice of Orange &amp; Sullivan - ECPv5.14.1//NONSGML v1.0//EN
CALSCALE:GREGORIAN
METHOD:PUBLISH
X-WR-CALNAME:Hospice of Orange &amp; Sullivan
X-ORIGINAL-URL:https://hospice.sandbox.nikijones.com
X-WR-CALDESC:Events for Hospice of Orange &amp; Sullivan
BEGIN:VTIMEZONE
TZID:UTC
BEGIN:STANDARD
TZOFFSETFROM:+0000
TZOFFSETTO:+0000
TZNAME:UTC
DTSTART:20180101T000000
END:STANDARD
END:VTIMEZONE
BEGIN:VEVENT
DTSTART;TZID=UTC:20180606T183000
DTEND;TZID=UTC:20180606T193000
DTSTAMP:20260421T194504
CREATED:20170817T214746Z
LAST-MODIFIED:20180516T223309Z
UID:8917-1528309800-1528313400@hospice.sandbox.nikijones.com
SUMMARY:Children's Grieving Center
DESCRIPTION:Children’s Grieving Center\n800 Stony Brook Court\nNewburgh\, NY  12550 \nFacilitators: Alyssa Sanchez\, LMSW  Ext. 226\nSharon Pluskalowski\,  LCSW Ext. 232 \n1st and 3rd Wednesday September – June of School Year
URL:https://hospice.sandbox.nikijones.com/event/childrens-grieving-center-8-2018-05-20/
LOCATION:Hospice of Orange & Sullivan Counties\, Inc.\, 800 Stony Brook Ct.\, Newburgh\, NY\, 12550\, United States
END:VEVENT
END:VCALENDAR