BEGIN:VCALENDAR
VERSION:2.0
PRODID:-//Hospice of Orange &amp; Sullivan - ECPv5.14.1//NONSGML v1.0//EN
CALSCALE:GREGORIAN
METHOD:PUBLISH
X-WR-CALNAME:Hospice of Orange &amp; Sullivan
X-ORIGINAL-URL:https://hospice.sandbox.nikijones.com
X-WR-CALDESC:Events for Hospice of Orange &amp; Sullivan
BEGIN:VTIMEZONE
TZID:UTC
BEGIN:STANDARD
TZOFFSETFROM:+0000
TZOFFSETTO:+0000
TZNAME:UTC
DTSTART:20160101T000000
END:STANDARD
END:VTIMEZONE
BEGIN:VEVENT
DTSTART;TZID=UTC:20160921T183000
DTEND;TZID=UTC:20160921T193000
DTSTAMP:20260422T122308
CREATED:20160901T190745Z
LAST-MODIFIED:20160909T225017Z
UID:6702-1474482600-1474486200@hospice.sandbox.nikijones.com
SUMMARY:Children's Grieving Center
DESCRIPTION:The Children’s Grieving Center provides families in Orange & Sullivan County\, New York with loving support in a safe place where children\, ages 5 to 17\, and their families grieving a death can share their experience as they move through the healing process.\n \nDuring this time the youth and families will participate in some activities and discussion together\, as well as split up into an adult group and a children’s group. Each group will have their own clinician to facilitate activities and discussion based on a pre-planned curriculum. Although parents and caregivers are not required to participate in the groups\, they are required to remain in the building in the event of an emergency. Students heal more successfully when their parent/caregiver participates.\n \nGroup will begin Wednesday\, September 21\, 2016\, and will be conducted every 1st and 3rd Wednesday of the month. Children and families can begin arriving at 6pm\, and group will officially run from 6:30pm to 7:30pm.\nIf you are interested in our Children’s Bereavement Services\, please call 845-561-6111 x 226 and speak with Alyssa Sanchez\, MSW prior to attending a group session for an intake. Participation in the Children’s Grieving Center is free of cost and available to hospice families and community families. \n 
URL:https://hospice.sandbox.nikijones.com/event/childrens-grieving-center-7/
LOCATION:Hospice of Orange & Sullivan Counties\, Inc.\, 800 Stony Brook Ct.\, Newburgh\, NY\, 12550\, United States
END:VEVENT
END:VCALENDAR