BEGIN:VCALENDAR
VERSION:2.0
PRODID:-//Hospice of Orange &amp; Sullivan - ECPv5.14.1//NONSGML v1.0//EN
CALSCALE:GREGORIAN
METHOD:PUBLISH
X-WR-CALNAME:Hospice of Orange &amp; Sullivan
X-ORIGINAL-URL:https://hospice.sandbox.nikijones.com
X-WR-CALDESC:Events for Hospice of Orange &amp; Sullivan
BEGIN:VTIMEZONE
TZID:UTC
BEGIN:STANDARD
TZOFFSETFROM:+0000
TZOFFSETTO:+0000
TZNAME:UTC
DTSTART:20160101T000000
END:STANDARD
END:VTIMEZONE
BEGIN:VEVENT
DTSTART;TZID=UTC:20160518T183000
DTEND;TZID=UTC:20160518T190000
DTSTAMP:20260423T004646
CREATED:20160427T220310Z
LAST-MODIFIED:20160427T220310Z
UID:6134-1463596200-1463598000@hospice.sandbox.nikijones.com
SUMMARY:Children's Grieving Center
DESCRIPTION:The Children’s Grieving Center provides a safe place for those children who have experienced the death of a loved one. Trained professionals and volunteers lead activities designed to help the grieving process. For children ages 6 and up. Lisa Filocco\, LCSW and Anna La Torette 845-561-6111 For teen groups\, please call.
URL:https://hospice.sandbox.nikijones.com/event/childrens-grieving-center-4/
LOCATION:Unnamed Venue\, 800 Stony Brook Court\, Newburgh\, NY\, 12550\, United States
END:VEVENT
END:VCALENDAR