BEGIN:VCALENDAR
VERSION:2.0
PRODID:-//Hospice of Orange &amp; Sullivan - ECPv5.14.1//NONSGML v1.0//EN
CALSCALE:GREGORIAN
METHOD:PUBLISH
X-WR-CALNAME:Hospice of Orange &amp; Sullivan
X-ORIGINAL-URL:https://hospice.sandbox.nikijones.com
X-WR-CALDESC:Events for Hospice of Orange &amp; Sullivan
BEGIN:VTIMEZONE
TZID:UTC
BEGIN:STANDARD
TZOFFSETFROM:+0000
TZOFFSETTO:+0000
TZNAME:UTC
DTSTART:20190101T000000
END:STANDARD
END:VTIMEZONE
BEGIN:VEVENT
DTSTART;VALUE=DATE:20190823
DTEND;VALUE=DATE:20190826
DTSTAMP:20260420T230139
CREATED:20190325T191933Z
LAST-MODIFIED:20190619T205931Z
UID:10711-1566518400-1566777599@hospice.sandbox.nikijones.com
SUMMARY:Camp Chrysalis Children's Grief Program
DESCRIPTION:Camp Chrysalis is a DAY CAMP that runs from Friday\, August 23 – Sunday\, August 25 at the YMCA of Sullivan County in Rock Hill\, NY.\n98 Wild Turnpike\, Rock Hill\, NY 12775 \nTIME: 9:00 AM – 4:30 PM \nRegistration runs until August 9\, 2019 \nCall Kim Warner\, Director of Bereavement: 561-6143 x 117
URL:https://hospice.sandbox.nikijones.com/event/camp-chrysalis-childrens-grief-program/
LOCATION:YMCA of Sullivan County\, 98 Wild Turnpike\, Rock Hill\, NY\, 12771\, United States
END:VEVENT
END:VCALENDAR