BEGIN:VCALENDAR
VERSION:2.0
PRODID:-//Hospice of Orange &amp; Sullivan - ECPv5.14.1//NONSGML v1.0//EN
CALSCALE:GREGORIAN
METHOD:PUBLISH
X-WR-CALNAME:Hospice of Orange &amp; Sullivan
X-ORIGINAL-URL:https://hospice.sandbox.nikijones.com
X-WR-CALDESC:Events for Hospice of Orange &amp; Sullivan
BEGIN:VTIMEZONE
TZID:UTC
BEGIN:STANDARD
TZOFFSETFROM:+0000
TZOFFSETTO:+0000
TZNAME:UTC
DTSTART:20170101T000000
END:STANDARD
END:VTIMEZONE
BEGIN:VEVENT
DTSTART;TZID=UTC:20170111T080000
DTEND;TZID=UTC:20170111T170000
DTSTAMP:20260422T084814
CREATED:20170111T225559Z
LAST-MODIFIED:20170111T225559Z
UID:7131-1484121600-1484154000@hospice.sandbox.nikijones.com
SUMMARY:"Bow Ties and Bouquets" Gala
DESCRIPTION:Saturday\, March 25\, 2017 \n6:00 pm to 11:00 pm  pm\, Anthony’s Pier 9\, New Windsor \nHonoring Joe and Mary Bonura
URL:https://hospice.sandbox.nikijones.com/event/bow-ties-and-bouquets-gala/
END:VEVENT
END:VCALENDAR