BEGIN:VCALENDAR
VERSION:2.0
PRODID:-//Hospice of Orange &amp; Sullivan - ECPv5.14.1//NONSGML v1.0//EN
CALSCALE:GREGORIAN
METHOD:PUBLISH
X-WR-CALNAME:Hospice of Orange &amp; Sullivan
X-ORIGINAL-URL:https://hospice.sandbox.nikijones.com
X-WR-CALDESC:Events for Hospice of Orange &amp; Sullivan
BEGIN:VTIMEZONE
TZID:UTC
BEGIN:STANDARD
TZOFFSETFROM:+0000
TZOFFSETTO:+0000
TZNAME:UTC
DTSTART:20200101T000000
END:STANDARD
END:VTIMEZONE
BEGIN:VEVENT
DTSTART;TZID=UTC:20200923T090000
DTEND;TZID=UTC:20200923T110000
DTSTAMP:20260420T145011
CREATED:20200227T021623Z
LAST-MODIFIED:20200630T175939Z
UID:12507-1600851600-1600858800@hospice.sandbox.nikijones.com
SUMMARY:3rd Annual Veteran Breakfast 9/23/20
DESCRIPTION:Due to Covid -19\, our Veterans Breakfast has been postponed to September 23\, 2020 at this time.\nIf more changes are required we will let you know.  \nHOSPICE of Orange and Sullivan is proud to be hosting the 3rd annual Veterans Breakfast  on Thursday\, May 7\, 2020.  The breakfast will once again be at West Hills Country Club\, Middletown\, NY from 9:00 am – 11:00 am to Honor and Thank our Veterans who served our Nation. All Veterans will be our guests with the support of our wonderful sponsors. (Sponsor proudly listed on event web page). If anyone from the public who is not a Veteran would like to attend the cost will be $30.00 You must call to register and prepay.\nKim Peel 845-561-6143 x 305 \nGuest speaker is local Best Selling Author and Screen Writer\, Jim DeFelice.  Jim lives in Warwick\, NY and is the co-author of the #1 New York Times Bestseller Chris Kyle\, American Sniper\, American Wife\, his most recent release\, Every Man a Hero : A Memoir of d-Day\, the First Wave at Omaha Beach\, and a World at War\,  and many other military thrillers.
URL:https://hospice.sandbox.nikijones.com/event/3rd-annual-veteran-breakfast/
LOCATION:West Hills Country Club\, 121 Golf Links Road\, Middletown\, NY\, 10940\, United States
END:VEVENT
END:VCALENDAR