BEGIN:VCALENDAR
VERSION:2.0
PRODID:-//Hospice of Orange &amp; Sullivan - ECPv5.14.1//NONSGML v1.0//EN
CALSCALE:GREGORIAN
METHOD:PUBLISH
X-WR-CALNAME:Hospice of Orange &amp; Sullivan
X-ORIGINAL-URL:https://hospice.sandbox.nikijones.com
X-WR-CALDESC:Events for Hospice of Orange &amp; Sullivan
BEGIN:VTIMEZONE
TZID:UTC
BEGIN:STANDARD
TZOFFSETFROM:+0000
TZOFFSETTO:+0000
TZNAME:UTC
DTSTART:20160101T000000
END:STANDARD
END:VTIMEZONE
BEGIN:VEVENT
DTSTART;TZID=UTC:20160820T083000
DTEND;TZID=UTC:20160820T170000
DTSTAMP:20260422T141821
CREATED:20160422T200859Z
LAST-MODIFIED:20160701T224702Z
UID:6077-1471681800-1471712400@hospice.sandbox.nikijones.com
SUMMARY:10th Annual Forestburgh 5k Race/Walk
DESCRIPTION:The tenth annual Forestburgh 5K Race/Walk will be held on Saturday\, August 20\, 2016\, at 8:30 AM at Lake Joseph (off Route 42) in Forestburgh\, to benefit Hospice of Orange and Sullivan Counties\, Inc. The race\, run on a paved and unpaved course\, is certified by the USATF (NY12129JG). \nRegistration is $18 before the race and $20 on the day of the race. The first 150 registrants are guaranteed a 10th Anniversary race t-shirt.  Age brackets are 10 and under; 11-15; 16-19; 20-29; 30-39; 40-49; 50-59; 60-69; 70-79; 80 & over.  Medals will be given to the top three finishers in each age bracket and to the top three overall male and female finishers. \nThis family-friendly event is conducted entirely by community volunteers who also raise the funds that benefit Hospice of Orange and Sullivan. Printable Entry forms are available at:  www.forestburgh5K.com. \nA special thank you to the race committee for your countless hours and the major sponsors who have made this event grow into such a success: \nThe Race Committee:\nGary & Rose Berson\, Emily & Chris Colson\, Kacy Colson\, Mary Devitt\, Ellen & Jim Galligan\, Meagan Galligan\, Ron & Eileen Geysen\,\nSusan Goodreds\, Harold Johnson\, George & Jackie Juergens\, Susie Landis\, Matt Moscato\, Tom & Joan Smith\nHonorary Chairs:\nAnthony & Nancy Kane \nDIAMOND Sponsor\n \nPLATINUM Sponsors\n\n \nGOLD Sponsors\n\nGary Berson\, D.D.S.\nFamily Drug Store\nKen & Margaret Fritze\nMurray’s All Natural Chickens\nStewart Shops \nSILVER Sponsors\nAlman Monti Taxi Corp.\nEugene & Shirley Blabey\nIn Memory of Agnes DeMille\nRay & Judy Gold\nSue & Jack Goodreds\nInn at Lake Joseph\nGeorge & Jackie Juergens\nDr. Joe & Liz Lauterstein\nTom & Joan Smith\nIn Memory of Alison Taggart\nWoodbourne Lawn & Garden\nYellow Cab
URL:https://hospice.sandbox.nikijones.com/event/10th-annual-forestburgh-5k-racewalk/
LOCATION:Lake Joesph\, Route 42\, Forestburgh\, NY\, United States
ATTACH;FMTTYPE=image/png:https://hospice.sandbox.nikijones.com/wp-content/uploads/2016/04/Forestburgh-Logo-new-2015-150x150.png
END:VEVENT
END:VCALENDAR